BEGIN:VCALENDAR
VERSION:2.0
PRODID:-//hacksw/handcal//NONSGML v1.0//EN
BEGIN:VEVENT
SUMMARY:Chpt D27 P2J7 Gatt 5
UID:0dc88b3a-517c-43ee-8c31-9a08693f3cc1
DTSTART:20260605T180000Z
DTEND:20260605T215500Z
LOCATION:Localisation Stade Marcel Guillot  (Square du 8 Mai) 27110 LE NEUBOURG
CATEGORIES:Sportif
STATUS:
URL;VALUE=URI:https://www.gattping.com/evenements/2026/06/05/chpt-d27-p2j7-gatt-5-2414951
END:VEVENT
END:VCALENDAR
