BEGIN:VCALENDAR
VERSION:2.0
PRODID:-//hacksw/handcal//NONSGML v1.0//EN
BEGIN:VEVENT
SUMMARY:Chpt D27 P2J7 Gatt 4
UID:239d012a-b5f9-4903-8dbc-69700cfa6bfa
DTSTART:20260605T180000Z
DTEND:20260605T215500Z
LOCATION:Localisation 34 Rue de la Galissonniere 27670 BOSROUMOIS
CATEGORIES:Sportif
STATUS:
URL;VALUE=URI:https://www.gattping.com/evenements/2026/06/05/chpt-d27-p2j7-gatt-4-2414950
END:VEVENT
END:VCALENDAR
