BEGIN:VCALENDAR
VERSION:2.0
PRODID:-//hacksw/handcal//NONSGML v1.0//EN
BEGIN:VEVENT
SUMMARY:Chpt D27 P2J6 Gatt 5
UID:526433a3-029a-443f-8c60-708d02d63740
DTSTART:20260529T180000Z
DTEND:20260529T215500Z
LOCATION:Localisation Gymnase Andre Malraux 27600 GAILLON
CATEGORIES:Sportif
STATUS:
URL;VALUE=URI:https://www.gattping.com/evenements/2026/05/29/chpt-d27-p2j6-gatt-5-2414929
END:VEVENT
END:VCALENDAR
