BEGIN:VCALENDAR
VERSION:2.0
PRODID:-//hacksw/handcal//NONSGML v1.0//EN
BEGIN:VEVENT
SUMMARY:Chpt D27 P2J6 Gatt 4
UID:4ae3f2bf-41a2-48f0-b233-4ace53bf45a5
DTSTART:20260529T180000Z
DTEND:20260529T215500Z
LOCATION:Localisation Gymnase Andre Malraux 27600 GAILLON
CATEGORIES:Sportif
STATUS:
URL;VALUE=URI:https://www.gattping.com/evenements/2026/05/29/chpt-d27-p2j6-gatt-4-2414928
END:VEVENT
END:VCALENDAR
