BEGIN:VCALENDAR
VERSION:2.0
PRODID:-//hacksw/handcal//NONSGML v1.0//EN
BEGIN:VEVENT
SUMMARY:Chpt D27 P2J6 Gatt 3
UID:d18c01c9-f637-4e0f-8bce-2224fb1e6fc9
DTSTART:20260529T180000Z
DTEND:20260529T215500Z
LOCATION:Localisation 2 bis rue des moissonneurs (salle des associations) 27930 GUICHAINVILLE
CATEGORIES:Sportif
STATUS:
URL;VALUE=URI:https://www.gattping.com/evenements/2026/05/29/chpt-d27-p2j6-gatt-3-2414927
END:VEVENT
END:VCALENDAR
