BEGIN:VCALENDAR
VERSION:2.0
PRODID:-//hacksw/handcal//NONSGML v1.0//EN
BEGIN:VEVENT
SUMMARY:Finales par categories VETERANS
UID:c52adcc2-d855-4678-bb89-ca5d08811548
DTSTART:20260508T180000Z
DTEND:20260508T215500Z
LOCATION:Localisation Rue Lavoisier Gymnase Daniel Houssays 27700 LES ANDELYS
CATEGORIES:Sportif
STATUS:
URL;VALUE=URI:https://www.gattping.com/evenements/2026/05/08/finales-par-categories-veterans-2440085
END:VEVENT
END:VCALENDAR
